BEGIN:VCALENDAR
VERSION:2.0
PRODID:-//EP opleidingen | Energieprestatiebranche - ECPv6.15.18//NONSGML v1.0//EN
CALSCALE:GREGORIAN
METHOD:PUBLISH
X-WR-CALNAME:EP opleidingen | Energieprestatiebranche
X-ORIGINAL-URL:https://ep-opleidingen.nl
X-WR-CALDESC:Evenementen voor EP opleidingen | Energieprestatiebranche
REFRESH-INTERVAL;VALUE=DURATION:PT1H
X-Robots-Tag:noindex
X-PUBLISHED-TTL:PT1H
BEGIN:VTIMEZONE
TZID:Europe/Paris
BEGIN:DAYLIGHT
TZOFFSETFROM:+0100
TZOFFSETTO:+0200
TZNAME:CEST
DTSTART:20250330T010000
END:DAYLIGHT
BEGIN:STANDARD
TZOFFSETFROM:+0200
TZOFFSETTO:+0100
TZNAME:CET
DTSTART:20251026T010000
END:STANDARD
BEGIN:DAYLIGHT
TZOFFSETFROM:+0100
TZOFFSETTO:+0200
TZNAME:CEST
DTSTART:20260329T010000
END:DAYLIGHT
BEGIN:STANDARD
TZOFFSETFROM:+0200
TZOFFSETTO:+0100
TZNAME:CET
DTSTART:20261025T010000
END:STANDARD
BEGIN:DAYLIGHT
TZOFFSETFROM:+0100
TZOFFSETTO:+0200
TZNAME:CEST
DTSTART:20270328T010000
END:DAYLIGHT
BEGIN:STANDARD
TZOFFSETFROM:+0200
TZOFFSETTO:+0100
TZNAME:CET
DTSTART:20271031T010000
END:STANDARD
END:VTIMEZONE
BEGIN:VTIMEZONE
TZID:Europe/Amsterdam
BEGIN:DAYLIGHT
TZOFFSETFROM:+0100
TZOFFSETTO:+0200
TZNAME:CEST
DTSTART:20250330T010000
END:DAYLIGHT
BEGIN:STANDARD
TZOFFSETFROM:+0200
TZOFFSETTO:+0100
TZNAME:CET
DTSTART:20251026T010000
END:STANDARD
BEGIN:DAYLIGHT
TZOFFSETFROM:+0100
TZOFFSETTO:+0200
TZNAME:CEST
DTSTART:20260329T010000
END:DAYLIGHT
BEGIN:STANDARD
TZOFFSETFROM:+0200
TZOFFSETTO:+0100
TZNAME:CET
DTSTART:20261025T010000
END:STANDARD
BEGIN:DAYLIGHT
TZOFFSETFROM:+0100
TZOFFSETTO:+0200
TZNAME:CEST
DTSTART:20270328T010000
END:DAYLIGHT
BEGIN:STANDARD
TZOFFSETFROM:+0200
TZOFFSETTO:+0100
TZNAME:CET
DTSTART:20271031T010000
END:STANDARD
END:VTIMEZONE
BEGIN:VEVENT
DTSTART;TZID=Europe/Paris:20260507T090000
DTEND;TZID=Europe/Paris:20260507T170000
DTSTAMP:20260420T155540
CREATED:20251223T090245Z
LAST-MODIFIED:20251223T090245Z
UID:10000053-1778144400-1778173200@ep-opleidingen.nl
SUMMARY:Bijscholing EP-W en EP-U 7 mei 2026
DESCRIPTION:Docent: Erik Pennings \nIedere adviseur die voor 31 december 2025 zijn vakbekwaamheid heeft behaald\, moet voor 28 mei 2026 de verplichte bijscholing volgen. \nMoet ik bijscholen?\nHeb jij je vakbekwaamheid als EP-adviseur vóór 1 januari 2026 behaald? Dan ben je verplicht om de bijscholing te volgen.\nHeb jij jouw vakbekwaamheid behaald tussen 1 januari en 1 juli 2026 en breid je uit naar een ander niveau? Dan geldt het volgende: \n\nVan basis naar detail = Bijscholing basis verplicht\nVan W/b naar U/b = Geen bijscholing\nVan W/b naar U/d = Geen bijscholing\nVan W/d naar U/b = Bijscholing voor woningbouw detail verplicht\nVan W/d naar U/d = Geen bijscholing\n\nLet op! Het behalen van de vakbekwaamheid voor het maatwerkadvies staat los van de bijscholing en geeft daarom ook geen vrijstelling. \nHoe ziet de dag eruit?\nTijdens de verplichte bijscholing word je kennis opgefrist op basis van de 7e druk van de ISSO 75.1\, veelgestelde vragen en veelgemaakte fouten. Gedurende de dag is er voldoende ruimte om vragen te stellen of met elkaar het gesprek in te gaan. De dag eindigt met een toets via het examenplatform Cirrus van ISSO. Na deelname aan deze toets wordt de registratie automatisch verlengd door ISSO. Je ontvangt hiervan een bevestiging per mail.
URL:https://ep-opleidingen.nl/energie-en-duurzaamheid/bijscholing-ep-w-en-ep-u-7-mei-2026/
LOCATION:Hotel-Restaurant Apeldoorn\, Soerenseweg 73\, Apeldoorn\, Gelderland\, 7313 EH\, Netherlands
CATEGORIES:EP Bijscholing,EP-U bijscholing,EP-W Bijscholing
ATTACH;FMTTYPE=image/jpeg:https://ep-opleidingen.nl/wp-content/uploads/2025/11/EP-opleidingen-en-bijscholing-3.jpg
ORGANIZER;CN="EP opleidingen":MAILTO:info@ep-opleidingen.nl
END:VEVENT
BEGIN:VEVENT
DTSTART;TZID=Europe/Paris:20260519T090000
DTEND;TZID=Europe/Paris:20260519T170000
DTSTAMP:20260420T155540
CREATED:20251223T090509Z
LAST-MODIFIED:20251224T105116Z
UID:10000054-1779181200-1779210000@ep-opleidingen.nl
SUMMARY:Bijscholing EP-W en EP-U 19 mei 2026
DESCRIPTION:Docent: Samantha Pellis \nIedere adviseur die voor 31 december 2025 zijn vakbekwaamheid heeft behaald\, moet voor 28 mei 2026 de verplichte bijscholing volgen. \nMoet ik bijscholen?\nHeb jij je vakbekwaamheid als EP-adviseur vóór 1 januari 2026 behaald? Dan ben je verplicht om de bijscholing te volgen.\nHeb jij jouw vakbekwaamheid behaald tussen 1 januari en 1 juli 2026 en breid je uit naar een ander niveau? Dan geldt het volgende: \n\nVan basis naar detail = Bijscholing basis verplicht\nVan W/b naar U/b = Geen bijscholing\nVan W/b naar U/d = Geen bijscholing\nVan W/d naar U/b = Bijscholing voor woningbouw detail verplicht\nVan W/d naar U/d = Geen bijscholing\n\nLet op! Het behalen van de vakbekwaamheid voor het maatwerkadvies staat los van de bijscholing en geeft daarom ook geen vrijstelling. \nHoe ziet de dag eruit?\nTijdens de verplichte bijscholing word je kennis opgefrist op basis van de 7e druk van de ISSO 75.1\, veelgestelde vragen en veelgemaakte fouten. Gedurende de dag is er voldoende ruimte om vragen te stellen of met elkaar het gesprek in te gaan. De dag eindigt met een toets via het examenplatform Cirrus van ISSO. Na deelname aan deze toets wordt de registratie automatisch verlengd door ISSO. Je ontvangt hiervan een bevestiging per mail.
URL:https://ep-opleidingen.nl/energie-en-duurzaamheid/bijscholing-ep-u-en-ep-w-19-mei-2026/
LOCATION:Otium Vergaderplein Roosendaal\, De Stok 8\, Roosendaal\, 4703 SZ\, Netherlands
CATEGORIES:EP Bijscholing,EP-U bijscholing,EP-W Bijscholing
ATTACH;FMTTYPE=image/jpeg:https://ep-opleidingen.nl/wp-content/uploads/2025/11/EP-opleidingen-en-bijscholing-3.jpg
ORGANIZER;CN="EP opleidingen":MAILTO:info@ep-opleidingen.nl
END:VEVENT
BEGIN:VEVENT
DTSTART;TZID=Europe/Amsterdam:20260528T160000
DTEND;TZID=Europe/Amsterdam:20260528T190000
DTSTAMP:20260420T155540
CREATED:20260326T153103Z
LAST-MODIFIED:20260326T154854Z
UID:10000058-1779984000-1779994800@ep-opleidingen.nl
SUMMARY:Inspiratiesessie voor EP adviseurs
DESCRIPTION:Inhoud is beschermd.
URL:https://ep-opleidingen.nl/energie-en-duurzaamheid/inspiratiesessie-voor-ep-adviseurs/
LOCATION:tremco CPG Nederland\, Vlietskade 1032\, Arkel\, 4241WC
CATEGORIES:Op uitnodiging
ORGANIZER;CN="EP opleidingen":MAILTO:info@ep-opleidingen.nl
END:VEVENT
BEGIN:VEVENT
DTSTART;TZID=Europe/Amsterdam:20260917T090000
DTEND;TZID=Europe/Amsterdam:20260917T170000
DTSTAMP:20260420T155540
CREATED:20260420T123119Z
LAST-MODIFIED:20260420T123119Z
UID:10000059-1789635600-1789664400@ep-opleidingen.nl
SUMMARY:Verplichte bijscholing Maatwerkadvies (MWA) 17 september
DESCRIPTION:Deze bijscholing is bedoeld voor alle maatwerkadviseurs. Na afronding van de bijscholing ben je bevoegd om ook het renovatiepaspoort te registreren. \nDe bijscholing wordt aangeboden in de periode van 1 september tot en met 18 december 2026.\nOnze ervaren docenten nemen je mee in de actuele theorie en laten zien hoe deze vertaald wordt naar de dagelijkse adviespraktijk. \nInhoud van de bijscholing\nDe verplichte bijscholing Maatwerkadvies (MWA) ondersteunt energieprestatieadviseurs bij het behouden van hun vakbekwaamheid voor zowel woningen als utiliteitsgebouwen richting 2027. \nDe opleiding is ontwikkeld door ervaren EP-MWA adviseurs en sluit volledig aan op de nieuwste wet- en regelgeving\, waaronder de BRL 9500-MWA en de ISSO-opnameprotocollen. Tijdens de bijscholing doe je actuele kennis op en werk je met praktijkgerichte voorbeelden die aansluiten op het werkveld. \nOnderwerpen die aan bod komen: \n\nUpdates in wet- en regelgeving\nToepassing van de BRL 9500-MWA en ISSO-opnameprotocollen\nPraktisch gebruik van het renovatiepaspoort\nTheorie gecombineerd met herkenbare praktijkcasussen
URL:https://ep-opleidingen.nl/energie-en-duurzaamheid/verplichte-bijscholing-maatwerkadvies-mwa-17-september/
LOCATION:Otium Vergaderplein Roosendaal\, De Stok 8\, Roosendaal\, 4703 SZ\, Netherlands
CATEGORIES:EP Bijscholing,EP-U bijscholing,EP-W Bijscholing
ATTACH;FMTTYPE=image/jpeg:https://ep-opleidingen.nl/wp-content/uploads/2025/11/EP-opleidingen-en-bijscholing-8.jpg
ORGANIZER;CN="EP opleidingen":MAILTO:info@ep-opleidingen.nl
END:VEVENT
BEGIN:VEVENT
DTSTART;TZID=Europe/Amsterdam:20261008T090000
DTEND;TZID=Europe/Amsterdam:20261008T170000
DTSTAMP:20260420T155540
CREATED:20260420T123507Z
LAST-MODIFIED:20260420T125541Z
UID:10000060-1791450000-1791478800@ep-opleidingen.nl
SUMMARY:Verplichte bijscholing Maatwerkadvies (MWA) 8 oktober
DESCRIPTION:Deze bijscholing is bedoeld voor alle maatwerkadviseurs. Na afronding van de bijscholing ben je bevoegd om ook het renovatiepaspoort te registreren. \nDe bijscholing wordt aangeboden in de periode van 1 september tot en met 18 december 2026.\nOnze ervaren docenten nemen je mee in de actuele theorie en laten zien hoe deze vertaald wordt naar de dagelijkse adviespraktijk. \nInhoud van de bijscholing\nDe verplichte bijscholing Maatwerkadvies (MWA) ondersteunt energieprestatieadviseurs bij het behouden van hun vakbekwaamheid voor zowel woningen als utiliteitsgebouwen richting 2027. \nDe opleiding is ontwikkeld door ervaren EP-MWA adviseurs en sluit volledig aan op de nieuwste wet- en regelgeving\, waaronder de BRL 9500-MWA en de ISSO-opnameprotocollen. Tijdens de bijscholing doe je actuele kennis op en werk je met praktijkgerichte voorbeelden die aansluiten op het werkveld. \nOnderwerpen die aan bod komen: \n\nUpdates in wet- en regelgeving\nToepassing van de BRL 9500-MWA en ISSO-opnameprotocollen\nPraktisch gebruik van het renovatiepaspoort\nTheorie gecombineerd met herkenbare praktijkcasussen
URL:https://ep-opleidingen.nl/energie-en-duurzaamheid/verplichte-bijscholing-maatwerkadvies-mwa-8-oktober/
LOCATION:Hotel-Restaurant Apeldoorn\, Soerenseweg 73\, Apeldoorn\, Gelderland\, 7313 EH\, Netherlands
CATEGORIES:EP Bijscholing,EP-U bijscholing,EP-W Bijscholing
ATTACH;FMTTYPE=image/jpeg:https://ep-opleidingen.nl/wp-content/uploads/2025/11/EP-opleidingen-en-bijscholing-9.jpg
ORGANIZER;CN="EP opleidingen":MAILTO:info@ep-opleidingen.nl
END:VEVENT
END:VCALENDAR